BEGIN:VCALENDAR
VERSION:2.0
PRODID:-//eventon.com NONSGML v1.0//EN
CALSCALE:GREGORIAN
METHOD:PUBLISH
BEGIN:VEVENT
UID:69e53b9cd79a6
DTSTAMP:20260419T203124Z
DTSTART:20240211T160000Z
DTEND:20240211T225000Z
LOCATION:Dreifaltigkeitskirche Donauwörth-Riedlingen Küsterfeldstraße 1
SUMMARY:"Im Garten der Liebe" - Segnungsgottesdienst zum Valentinstag - Donauwörth
DESCRIPTION:Sie sind herzlich eingeladen! Alle Verliebten\,  Verbandelten\,
   Verlobten und Verheirateten sind anlässlich des Valentinstags zu einem S
 egnungsgottesdienst eingeladen. Unter dem Motto „Im Garten der Liebe“ g
 ibt es im Gottesdienst Gedanken\,  Texte\,  schöne Musik und Lieder\,  Geb
 ete zum Thema Liebe und Partnerschaft. Paare und Familien haben Gelegenheit
 \,  sich individuell segnen zu[..]\nhttps://beziehung-leben.de/events/nach-
 heilig-kreuz-der-liebe-wegen-segnungsgottesdienst-zum-valentinstag-donauwoe
 rth-2024/
URL:https://beziehung-leben.de/events/nach-heilig-kreuz-der-liebe-wegen-segnungsgottesdienst-zum-valentinstag-donauwoerth-2024/
END:VEVENT
END:VCALENDAR