BEGIN:VCALENDAR
VERSION:2.0
PRODID:-//eventon.com NONSGML v1.0//EN
CALSCALE:GREGORIAN
METHOD:PUBLISH
BEGIN:VEVENT
UID:69e552592241b
DTSTAMP:20260419T220825Z
DTSTART:20250726T050000Z
DTEND:20250728T010000Z
LOCATION:Bildungszentrum für Familie\,  Umwelt und Kultur Klosterstraße 3\,  89297 Roggenburg
SUMMARY:Heil werden durch die Ordnungen der Liebe - Familienaufstellungen Roggenburg
DESCRIPTION:Familienaufstellungen bringen die unbewussten Verstrickungen un
 d Konflikte in unseren Familien über Generationen ins Licht. Das Finden de
 r richtigen Ordnung und des eigenen stimmigen Platzes im System geben heils
 ame Impulse für das gegenwärtige Leben und die Beziehungen. Leitung: Dr. 
 Carl Laux\,  Ulrich Hoffmann Kosten: 320 € / Erw. (incl. Übernachtung un
 d[..]\nhttps://beziehung-leben.de/events/heil-werden-durch-die-ordnungen-de
 r-liebe-familienaufstellungen-roggenburg/
URL:https://beziehung-leben.de/events/heil-werden-durch-die-ordnungen-der-liebe-familienaufstellungen-roggenburg/
END:VEVENT
END:VCALENDAR