BEGIN:VCALENDAR
VERSION:2.0
PRODID:-//eventon.com NONSGML v1.0//EN
CALSCALE:GREGORIAN
METHOD:PUBLISH
BEGIN:VEVENT
UID:69e56d6e90b09
DTSTAMP:20260420T000358Z
DTSTART:20240218T050000Z
DTEND:20240218T060000Z
LOCATION:Pfarrkirche Rehling
SUMMARY:Segnungsgottesdienst zum Valentinstag - Rehling
DESCRIPTION:Der Pfarrgemeinderat lädt Sie ganz herzlich zum Segnungsgottes
 dienst ein. Termin: Samstag\,  17.02.2024\,  18:00 Uhr Ort: Pfarrkirche Reh
 ling\,  Hauptstr. 1\,  86508 Rehling &nbsp;\nhttps://beziehung-leben.de/eve
 nts/segnungsgottesdienst-zum-valentinstag-rehling/
URL:https://beziehung-leben.de/events/segnungsgottesdienst-zum-valentinstag-rehling/
END:VEVENT
END:VCALENDAR