BEGIN:VCALENDAR
VERSION:2.0
PRODID:-//eventon.com NONSGML v1.0//EN
CALSCALE:GREGORIAN
METHOD:PUBLISH
BEGIN:VEVENT
UID:69e586f83fe2d
DTSTAMP:20260420T015256Z
DTSTART:20240218T050000Z
DTEND:20240218T060000Z
LOCATION:Kirche St. Michael Burgberg 18
SUMMARY:Valentinsgottesdienst mit Segen - Krumbach
DESCRIPTION:Die Pfarrei St. Michael lädt Sie ganz herzlich zum Valentinsgo
 ttesdienst mit Segen für alle Verliebten\,  Verbandelten\,  alten und jung
 en Paare und Ehepaare ein. Termin: Samstag\,  17.02.2024  um 18:00 Uhr\nht
 tps://beziehung-leben.de/events/valentinsgottesdienst-mit-segnung-der-ehe-p
 aare-krumbach-1600-uhr-und-1800-uhr/
URL:https://beziehung-leben.de/events/valentinsgottesdienst-mit-segnung-der-ehe-paare-krumbach-1600-uhr-und-1800-uhr/
END:VEVENT
END:VCALENDAR