BEGIN:VCALENDAR
VERSION:2.0
PRODID:-//eventon.com NONSGML v1.0//EN
CALSCALE:GREGORIAN
METHOD:PUBLISH
BEGIN:VEVENT
UID:69e5a23912c66
DTSTAMP:20260420T034913Z
DTSTART:20240208T060000Z
DTEND:20240208T070000Z
LOCATION:Kirche Hlgst. Herz Jesu
SUMMARY:Dank-  und Segensgottesdienst für Verliebte\,  Verlobte und Verheiratete in Herz-Jesu Augsburg
DESCRIPTION:Die Pfarrei Heiligstes Herz Jesu\,  86157 Augsburg lädt ein: M
 ittwoch\,  07.02.2024 19:00 Uhr Wo: Hlgst. Herz Jesu Kirche (Marienkapelle)
 \,  Augsburger Str. 23 a\,  86157 Augsburg\nhttps://beziehung-leben.de/even
 ts/von-der-kunst-des-liebens-diedorf/
URL:https://beziehung-leben.de/events/von-der-kunst-des-liebens-diedorf/
END:VEVENT
END:VCALENDAR