BEGIN:VCALENDAR
VERSION:2.0
PRODID:-//eventon.com NONSGML v1.0//EN
CALSCALE:GREGORIAN
METHOD:PUBLISH
BEGIN:VEVENT
UID:69e5bc78ba8f3
DTSTAMP:20260420T054112Z
DTSTART:20240212T060000Z
DTEND:20240212T070000Z
LOCATION:Stadtpfarrkirche St. Michael\,  Schwabmünchen
SUMMARY:Valentinsgottesdienst - Schwabmünchen
DESCRIPTION:Die Kath. Kirchenstiftung St. Michael\,  Schwabmünchen lädt S
 ie ganz herzlich zum  Valentins-Gottesdienst für &#8222;junge&#8220; und 
 &#8222;alte&#8220; Verliebte\,  Paare und Eheleute\,  Liebende\,  Verbandel
 te und Verlobte ein. Termin: Sonntag\,  11.02.2024\,  19:00 Uhr Ort: Pfarrk
 irche St. Michael Schwabmünchen\,  Ferdinand-Wagner-Str.\,  5\,  86830 Sch
 wabmünchen\nhttps://beziehung-leben.de/events/valentinsgottesdienst-schwab
 muenchen-2/
URL:https://beziehung-leben.de/events/valentinsgottesdienst-schwabmuenchen-2/
END:VEVENT
END:VCALENDAR