BEGIN:VCALENDAR
VERSION:2.0
PRODID:-//eventon.com NONSGML v1.0//EN
CALSCALE:GREGORIAN
METHOD:PUBLISH
BEGIN:VEVENT
UID:69e5d688db380
DTSTAMP:20260420T073224Z
DTSTART:20240318T020000Z
DTEND:20240318T030000Z
LOCATION:Kirche St. Justina\,  Bad Wörishofen
SUMMARY:Klangreise für die Seele in Bad Wörishofen
DESCRIPTION:Eine Stunde mit Texten und Musik zum Träumen und Meditieren bi
 eten Markus Kerber (Flöten und Saxophone) und Robert Haas (Piano)\,  zwei 
 bekannte Musiker aus dem Allgäu\,  ihren Zuhörern an. Eine Stunde\,  in d
 er sie ihre traumhaften Melodien aus den Bestseller-CDs „Klangreisen“\,
   „Kleine Tafelmusik“ (Kösel-Verlag) und „Klangreisen 2“ spielen. 
 Die Musik[..]\nhttps://beziehung-leben.de/events/muttertagskonzert-klangrei
 se-fuer-die-seele-in-bad-woerihofen/
URL:https://beziehung-leben.de/events/muttertagskonzert-klangreise-fuer-die-seele-in-bad-woerihofen/
END:VEVENT
END:VCALENDAR