BEGIN:VCALENDAR
VERSION:2.0
PRODID:-//eventon.com NONSGML v1.0//EN
CALSCALE:GREGORIAN
METHOD:PUBLISH
BEGIN:VEVENT
UID:69e4f2e34b5f6
DTSTAMP:20260419T152107Z
DTSTART:20251206T080000Z
DTEND:20251206T160000Z
LOCATION:Maria Hilf\,  Pfarrsaal
SUMMARY:Wellness im Doppelpack
DESCRIPTION:An diesem Tag für Paare erwartet Sie ein abwechslungsreiches P
 rogramm mit partnerschaftlichen Impulsen\,  Übungen zur Körperwahrnehmung
 \,  Massage und Entspannung. Freuen Sie sich auf gemeinsame Stunden\,  in d
 enen Sie die Seele baumeln lassen können. &nbsp; Leitung: Peter Scherer\, 
  Angelika Steber Teilnehmergebühr: 50 € / pro Paar Anmeldung: bis 24.11.
 2025 bei der[..]\nhttps://beziehung-leben.de/events/wellness-im-doppelpack/
URL:https://beziehung-leben.de/events/wellness-im-doppelpack/
END:VEVENT
END:VCALENDAR