BEGIN:VCALENDAR
VERSION:2.0
PRODID:-//eventon.com NONSGML v1.0//EN
CALSCALE:GREGORIAN
METHOD:PUBLISH
BEGIN:VEVENT
UID:69e4c2146c799
DTSTAMP:20260419T115252Z
DTSTART:20250215T173000Z
DTEND:20250215T183000Z
LOCATION:St. Martin
SUMMARY:Candleligth-Gottesdienst zum Valentin - Dasing
DESCRIPTION:Herzliche Einladung zum Valentinsgottesdienst am 15. Februar 20
 25 um 18:30 Uhr in die Kirche St. Georg in Laimering\,  Riedener Str. 8\, 
  86453 Dasing-OT Laimering &nbsp; &nbsp;\nhttps://beziehung-leben.de/events
 /valentinsgottesdienst/
URL:https://beziehung-leben.de/events/valentinsgottesdienst/
END:VEVENT
END:VCALENDAR