BEGIN:VCALENDAR
VERSION:2.0
PRODID:-//eventon.com NONSGML v1.0//EN
CALSCALE:GREGORIAN
METHOD:PUBLISH
BEGIN:VEVENT
UID:69e88f01b0792
DTSTAMP:20260422T090401Z
DTSTART:20240530T140000Z
DTEND:20240602T120000Z
LOCATION:Mauern Zeltplatz
SUMMARY:Familienzeltlager 2024
DESCRIPTION:Miteinander mit anderen Familien Zeit in der Natur verbringen\,
   Spiele im Wald und kreative Aktionen erleben\,  am Abend am Lagerfeuer si
 tzen. Leitung: Thomas Wienhardt\,  N.N. Kosten: 78 € /Erw.; 20 € /Kind 
 (ab 2 Jahre) Anmeldung bis: 15.05.2024 Mit Kinderbetreuung. Wichtiger Hinwe
 is Bei hohem Mailaufkommen erreichen uns manchmal Ihre Anmeldungen[..]\nhtt
 ps://beziehung-leben.de/events/familienzeltlager-2024/
URL:https://beziehung-leben.de/events/familienzeltlager-2024/
END:VEVENT
END:VCALENDAR