BEGIN:VCALENDAR
VERSION:2.0
PRODID:-//eventon.com NONSGML v1.0//EN
CALSCALE:GREGORIAN
METHOD:PUBLISH
BEGIN:VEVENT
UID:69ea233216a4c
DTSTAMP:20260423T134834Z
DTSTART:20240628T160000Z
DTEND:20240630T110000Z
LOCATION:Jugendhaus Elias Seifriedsberg 12\,  87544 Blaichach
SUMMARY:Leben\,  Lachen\,  Lagerfeuer
DESCRIPTION:Dieses Wochenende ist nichts für Couchpotatoes und Frischluftv
 erweigerer. Wir lassen uns vom Sommer und den Bergen nach draußen locken u
 nd erkunden die schöne Allgäuer Umgebung beim Wandern und Natur entdecken
 . Den Samstag lassen wir in gemütlicher Runde am Lagerfeuer ausklingen. Fr
 eut euch auf ein bewegtes Wochenende\,  bei dem auch Spaß[..]\nhttps://bez
 iehung-leben.de/events/leben-lachen-lagerfeuer/
URL:https://beziehung-leben.de/events/leben-lachen-lagerfeuer/
END:VEVENT
END:VCALENDAR