BEGIN:VCALENDAR
VERSION:2.0
PRODID:-//eventon.com NONSGML v1.0//EN
CALSCALE:GREGORIAN
METHOD:PUBLISH
BEGIN:VEVENT
UID:69ea0b74c5cfb
DTSTAMP:20260423T120716Z
DTSTART:20240831T160000Z
DTEND:20240906T110000Z
LOCATION:Kolping-Ferienhaus Lambach Lambach 1\,  93462 Lam
SUMMARY:Dahoam im wuidn Woid - Ausgebucht
DESCRIPTION:Die Veranstaltung ist bereits ausgebucht &#8211; wir setzen Sie
  gerne auf die Warteliste Den Wald vor lauter Bäumen nicht sehen? Nicht in
  unserer Ferienwoche im wuiden Bayerischen Wald. Wir tanken Grünkraft\,  t
 auchen ein in die uralten Mythen des Waldes\,  genießen das Miteinander un
 d die Rundumversorgung und lassen die wild-romantische Natur[..]\nhttps://b
 eziehung-leben.de/events/dahoam-im-wuidn-woid/
URL:https://beziehung-leben.de/events/dahoam-im-wuidn-woid/
END:VEVENT
END:VCALENDAR