BEGIN:VCALENDAR
VERSION:2.0
PRODID:-//eventon.com NONSGML v1.0//EN
CALSCALE:GREGORIAN
METHOD:PUBLISH
BEGIN:VEVENT
UID:69e9f1a08122d
DTSTAMP:20260423T101704Z
DTSTART:20240223T170000Z
DTEND:20240225T120000Z
LOCATION:Schwäbische Jugendbildungs- und Begegnungsstätte Babenhausen Am Espach 7\,  87727 Babenhausen
SUMMARY:Auf die Pauke!
DESCRIPTION:Wenn uns der Rhythmus packt\,  hält uns kein Winterschlaf mehr
  und die Energie kommt ganz von alleine! Wir werden zu einfachen\,  aber mi
 treißenden Rhythmen an afrikanischen Trommeln angeleitet\,  lernen diese k
 raftvollen Instrumente kennen und erleben pure Lebensfreude beim gemeinsame
 n Spiel. Kopf ausschalten und ganz im Moment sein – ihr werdet[..]\nhttps
 ://beziehung-leben.de/events/auf-die-pauke/
URL:https://beziehung-leben.de/events/auf-die-pauke/
END:VEVENT
END:VCALENDAR