BEGIN:VCALENDAR
VERSION:2.0
PRODID:-//eventon.com NONSGML v1.0//EN
CALSCALE:GREGORIAN
METHOD:PUBLISH
BEGIN:VEVENT
UID:69e53b2da4237
DTSTAMP:20260419T202933Z
DTSTART:20240229T193000Z
DTEND:20240411T204500Z
LOCATION:Kinderhaus am Leinhauer Hang Liegnitzer Straße 22; 87600 Kaufbeuren
SUMMARY:Elternkurs Kess erziehen - Weniger Stress. Mehr Freude.
DESCRIPTION:Der Elternkurs „Kess erziehen – Weniger Stress. Mehr Freude
 “ stärkt Mütter und Väter von Kindern im Alter von 3 bis 10 Jahren in 
 einem respektvollen Erziehungsstil. Sie erfahren\,  welche sozialen Grundbe
 dürfnisse Kinder haben und was sie zur positiven Entwicklung ihres Selbstw
 ertgefühls brauchen. Die Eltern lernen\,  weshalb Kinder bestimmte stören
 de Verhaltensweisen[..]\nhttps://beziehung-leben.de/events/elternkurs-kess-
 erziehen-weniger-stress-mehr-freude/
URL:https://beziehung-leben.de/events/elternkurs-kess-erziehen-weniger-stress-mehr-freude/
END:VEVENT
END:VCALENDAR