BEGIN:VCALENDAR
VERSION:2.0
PRODID:-//eventon.com NONSGML v1.0//EN
CALSCALE:GREGORIAN
METHOD:PUBLISH
BEGIN:VEVENT
UID:69e525b094841
DTSTAMP:20260419T185752Z
DTSTART:20240928T080000Z
DTEND:20240928T140000Z
LOCATION:Bildungshaus St. Albert Reimlingen
SUMMARY:"Der Spur des Atems folgen"
DESCRIPTION:&nbsp; Der Atem ist ein wunderbarer Weg zur Lebendigkeit\,  den
 n er verbindet Körper\,  Seele und Geist. Einen Tag lang wollen wir diese
 r Spur folgen\,  indem wir den Körper bewegen\,  den Atem erleben und vie
 lleicht sogar am Wesentlichen schnuppern. Leider kann der Atemtag 2024 nich
 t stattfinden. Sobald es einen neuen Termin[..]\nhttps://beziehung-leben.de
 /events/der-spur-des-atems-folgen-copy/
URL:https://beziehung-leben.de/events/der-spur-des-atems-folgen-copy/
END:VEVENT
END:VCALENDAR