BEGIN:VCALENDAR
VERSION:2.0
PRODID:-//eventon.com NONSGML v1.0//EN
CALSCALE:GREGORIAN
METHOD:PUBLISH
BEGIN:VEVENT
UID:69e50c888c35e
DTSTAMP:20260419T171032Z
DTSTART:20240308T170000Z
DTEND:20240310T130000Z
LOCATION:Bildungshaus St. Albert Reimlingen
SUMMARY:Dem Leben trauen\,  weil einer mit uns geht
DESCRIPTION:Der Zug des Alltags rollt durch unser Leben\,  manchmal möchte
 n wir aussteigen und uns eine Auszeit gönnen. Dieses Wochenende vor Ostern
  ist eine Einladung an Paare\,  die früher mit Kindern auf Familienwochene
 nden waren und denen jetzt vor Ostern „etwas fehlt“\,  was lange dazuge
 hörte: mit der Partnerin/ dem Partner aus dem[..]\nhttps://beziehung-leben
 .de/events/dem-leben-trauen-weil-einer-mit-uns-geht/
URL:https://beziehung-leben.de/events/dem-leben-trauen-weil-einer-mit-uns-geht/
END:VEVENT
END:VCALENDAR