BEGIN:VCALENDAR
VERSION:2.0
PRODID:-//eventon.com NONSGML v1.0//EN
CALSCALE:GREGORIAN
METHOD:PUBLISH
BEGIN:VEVENT
UID:69e4f333e6813
DTSTAMP:20260419T152227Z
DTSTART:20241011T163000Z
DTEND:20241011T180000Z
LOCATION:Nachbarschafts-Zentrum Kriegshaber
SUMMARY:Infoabend Kess erziehen: Weniger Stress - mehr Freude
DESCRIPTION:Ihr habt ein Kind im Alter von 3 bis 10 Jahren und wollt euer K
 ind noch besser verstehen? Oder ihr seid interessiert an Tipps zur Kinderer
 ziehung? Noch nie etwas von den Kess-erziehen Kursen gehört? Am Infoabend 
 bekommt ihr einen ersten Eindruck\,  wie der Kurs abläuft und könnt euch 
 dann entscheiden\, [..]\nhttps://beziehung-leben.de/events/kess-erziehen-we
 niger-stress-mehr-freude/
URL:https://beziehung-leben.de/events/kess-erziehen-weniger-stress-mehr-freude/
END:VEVENT
END:VCALENDAR