BEGIN:VCALENDAR
VERSION:2.0
PRODID:-//eventon.com NONSGML v1.0//EN
CALSCALE:GREGORIAN
METHOD:PUBLISH
BEGIN:VEVENT
UID:69e4db9b09624
DTSTAMP:20260419T134147Z
DTSTART:20240223T180000Z
DTEND:20240322T201500Z
LOCATION:
SUMMARY:Kess erziehen Weniger Stress - mehr Freude
DESCRIPTION:Der Elternkurs „Kess erziehen – Weniger Stress. Mehr Freude
 “ stärkt Mütter und Väter von Kindern im Alter von 3 bis 10 Jahren in 
 einem respektvollen Erziehungsstil. Sie erfahren\,  welche sozialen Grundbe
 dürfnisse Kinder haben und was sie zur positiven Entwicklung ihres Selbstw
 ertgefühls brauchen. Die Eltern lernen\,  weshalb Kinder bestimmte stören
 de Verhaltensweisen[..]\nhttps://beziehung-leben.de/events/kess-erziehen-we
 niger-stress-mehr-freude-2/
URL:https://beziehung-leben.de/events/kess-erziehen-weniger-stress-mehr-freude-2/
END:VEVENT
END:VCALENDAR