BEGIN:VCALENDAR
VERSION:2.0
PRODID:-//eventon.com NONSGML v1.0//EN
CALSCALE:GREGORIAN
METHOD:PUBLISH
BEGIN:VEVENT
UID:69e4d9fedc80e
DTSTAMP:20260419T133454Z
DTSTART:20250313T183000Z
DTEND:20250410T194500Z
LOCATION:Familienstation Neusäß
SUMMARY:Kess erziehen: Weniger Stress - mehr Freude
DESCRIPTION:Der Kurs stellt die Entwicklung des Kindes\,  gestützt durch E
 rmutigung\,  und dessen verantwortungsvolle Einbeziehung in die Gemeinschaf
 t in den Mittelpunkt. Mütter und Väter von Kindern im Alter von 3 &#8211;
  10 Jahren erhalten eine praktische\,  ganzheitlich orientierte Erziehungsh
 ilfe. Der Elternkurs findet an 5 Abenden jeweils von 19.30 -21.30 Uhr statt
 .[..]\nhttps://beziehung-leben.de/events/kess-erziehen-weniger-stress-mehr-
 freude-4/
URL:https://beziehung-leben.de/events/kess-erziehen-weniger-stress-mehr-freude-4/
END:VEVENT
END:VCALENDAR