BEGIN:VCALENDAR
VERSION:2.0
PRODID:-//eventon.com NONSGML v1.0//EN
CALSCALE:GREGORIAN
METHOD:PUBLISH
BEGIN:VEVENT
UID:69e631f8afa07
DTSTAMP:20260420T140232Z
DTSTART:20241118T190000Z
DTEND:20241118T210000Z
LOCATION:
SUMMARY:KESS erziehen: Abenteuer Pubertät
DESCRIPTION:Das Leben mit Jugendlichen ist nicht nur Friede und Freude. Är
 ger\,  Auseinandersetzungen und Streit sind beim Erziehen unvermeidlich\,  
 ja sogar notwendig. Fast alle Eltern fühlen sich deshalb gelegentlich unsi
 cher\,  herausgefordert oder überfordert &#8211; zumal auch die Anforderun
 gen an Eltern größer geworden sind. Der Elternkurs &#8222;Kess erziehen &
 #8211; Abenteuer Pubertät&#8220; bestärkt[..]\nhttps://beziehung-leben.de
 /events/kess-erziehen-abenteuer-pubertaet-3/
URL:https://beziehung-leben.de/events/kess-erziehen-abenteuer-pubertaet-3/
END:VEVENT
END:VCALENDAR