BEGIN:VCALENDAR
VERSION:2.0
PRODID:-//eventon.com NONSGML v1.0//EN
CALSCALE:GREGORIAN
METHOD:PUBLISH
BEGIN:VEVENT
UID:69eb7b04a9b2b
DTSTAMP:20260424T141532Z
DTSTART:20240718T163000Z
DTEND:20240718T183000Z
LOCATION:
SUMMARY:Sensiplan®-Einführungskurs in der Gruppe ONLINE
DESCRIPTION:Lerne gemeinsam in der Kleingruppe die &#8222;hochsichere&#8220
 ; Familienplanungsmethode NFP nach Sensiplan® kennen. Du beobachtest 3 vol
 le Zyklen und lernst ganz nebenbei wie wertvoll dein Zyklus für Dich ist. 
 Zusätzlich erfährst Du\,  was Du tun kannst\,  wenn Probleme oder Schmerz
 en bestehen und wie diese Symptome zusammenhängen. Ganz bequem von zu Haus
 e[..]\nhttps://beziehung-leben.de/events/sensiplan-einfuehrungskurs-in-der-
 gruppe-online-5/
URL:https://beziehung-leben.de/events/sensiplan-einfuehrungskurs-in-der-gruppe-online-5/
END:VEVENT
END:VCALENDAR