BEGIN:VCALENDAR
VERSION:2.0
PRODID:-//eventon.com NONSGML v1.0//EN
CALSCALE:GREGORIAN
METHOD:PUBLISH
BEGIN:VEVENT
UID:69ebd6005dfe4
DTSTAMP:20260424T204344Z
DTSTART:20240929T080000Z
DTEND:20240929T215900Z
LOCATION:Oase Steinerskirchen Steinerskirchen 1\,  86558 Hohenwart
SUMMARY:Familiengottesdienst in der Schöpfungszeit - 86558 Oase Steinerskirchen
DESCRIPTION:Wir feiern zum Thema Schöpfung einen Familiengottesdienst mit 
 Neuem Geistlichen Lied draußen in der Natur. Ort:             
   Steinerskirchen\,  Oase Steinerskirchen Leitung:        P. Rolf Bi
 egler MSC\,  Gudrun Fendt Weitere Infos bei Ehe– und Familienseelsorge\, 
  Außenstelle Altbayern Tel. 08252 7818 oder efs-schrobenhausen@bistum-augs
 burg.de\nhttps://beziehung-leben.de/events/familiengottesdienst-in-der-scho
 epfungszeit/
URL:https://beziehung-leben.de/events/familiengottesdienst-in-der-schoepfungszeit/
END:VEVENT
END:VCALENDAR