BEGIN:VCALENDAR
VERSION:2.0
PRODID:-//eventon.com NONSGML v1.0//EN
CALSCALE:GREGORIAN
METHOD:PUBLISH
BEGIN:VEVENT
UID:69ebc3dfa1476
DTSTAMP:20260424T192623Z
DTSTART:20241027T160000Z
DTEND:20241027T225900Z
LOCATION:Pfarr- und Wallfahrtskirche Steinerskirchen 86558 Steinerskirchen
SUMMARY:Wenn Hoffnungen zerbrechen ...
DESCRIPTION:Lebensentwürfe kennen auch Brüche\,  hoffnungsvoll begonnene 
 Wege trennen sich. Trotzdem sind wir von Gott gehalten\,  dürfen uns Zukun
 ft zusprechen lassen und ins Leben weitergehen. Wir laden ein zu einem Gott
 esdienst\,  der sich bewusst den unangenehmen Realitäten des Lebens stellt
 . Ort:                    Steinerskirchen\,  Pfarr- und 
 Wallfahrtskirche Leitung:              P. Norbert M. Becker[..]
 \nhttps://beziehung-leben.de/events/wenn-hoffnungen-zerbrechen/
URL:https://beziehung-leben.de/events/wenn-hoffnungen-zerbrechen/
END:VEVENT
END:VCALENDAR