BEGIN:VCALENDAR
VERSION:2.0
PRODID:-//eventon.com NONSGML v1.0//EN
CALSCALE:GREGORIAN
METHOD:PUBLISH
BEGIN:VEVENT
UID:69ebaab6528fd
DTSTAMP:20260424T173902Z
DTSTART:20241208T160000Z
DTEND:20241208T225900Z
LOCATION:Pfarr- und Wallfahrtkirche Steinerskirchen Steinerskirchen 1\,  86558 Hohenwart
SUMMARY:"...über den Tod hinaus"
DESCRIPTION:Zu diesem Gottesdienst am „Worldwide Candle Lighting Day“ s
 ind alle Eltern und Familien eingeladen\,  die den Tod eines Kindes betraue
 rn. Mit anderen Betroffenen wollen wir die oft auftretende Hilflosigkeit un
 d Trauer vor Gott hintragen. Im Anschluss an den Gottesdienst besteht die M
 öglichkeit zum Zusammensein und Gedankenaustausch in der Oase Steinerskirc
 hen.[..]\nhttps://beziehung-leben.de/events/ueber-den-tod-hinaus-2/
URL:https://beziehung-leben.de/events/ueber-den-tod-hinaus-2/
END:VEVENT
END:VCALENDAR