BEGIN:VCALENDAR
VERSION:2.0
PRODID:-//eventon.com NONSGML v1.0//EN
CALSCALE:GREGORIAN
METHOD:PUBLISH
BEGIN:VEVENT
UID:69eb9309630e9
DTSTAMP:20260424T155801Z
DTSTART:20241213T170000Z
DTEND:20241215T123000Z
LOCATION:Oase Steinerskirchen\,  86558 Steinerskirchen 86558 Hohenwart
SUMMARY:Dem Stern folgen
DESCRIPTION:Mit Sternengeschichten wollen wir uns an diesem Wochenende geme
 insam auf die Sternstunde der Geburt Jesu vorbereiten. Es gibt gemeinsame Z
 eit und spezielle Angebote fÃ¼r Kinder\,  Jugendliche und Erwachsene. Ort: 
 Â Â Â Â Â Â Â Â Â Â Â Â  Steinerskirchen\,  Oase Steinerskirchen Leitung: Â
  Â Â Â Â  Bernhard Fendt\,  Gudrun Fendt\,  Team Kinder- und Jugendgruppenl
 eiter:innen Kosten:Â  140 â‚¬ pro Erw. / 70[..]\nhttps://beziehung-leben.de
 /events/dem-stern-folgen/
URL:https://beziehung-leben.de/events/dem-stern-folgen/
END:VEVENT
END:VCALENDAR