BEGIN:VCALENDAR
VERSION:2.0
PRODID:-//eventon.com NONSGML v1.0//EN
CALSCALE:GREGORIAN
METHOD:PUBLISH
BEGIN:VEVENT
UID:69eb60a2e2d88
DTSTAMP:20260424T122258Z
DTSTART:20250307T170000Z
DTEND:20250309T150000Z
LOCATION:Oase Steinerskirchen Steinerskirchen 1\,  86558 Hohenwart
SUMMARY:AUSGEBUCHT - KEK kompakt - Kommunikationskurs für Paare - 86558 Oase Steinerskirchen
DESCRIPTION:Das Gespräch mit der Partnerin/dem Partner steht im Mittelpunk
 t des Kurses. Die Paare üben grundlegende Gesprächsfertigkeiten ein. Jede
 s Paar bespricht im eigenen Zimmer die Themen\,  die ihnen für ihre Partne
 rschaft wichtig sind. Unterstützt werden sie dabei von Kommunikationstrain
 er/-innen. Leitung:       Dr. Konrad H. Blüml\,  Gudrun Fendt\,  N.N.
  Kosten: 260 €[..]\nhttps://beziehung-leben.de/events/kek-kompakt-kommuni
 kationskurs-fuer-paare-86558-oase-steinerskirchen/
URL:https://beziehung-leben.de/events/kek-kompakt-kommunikationskurs-fuer-paare-86558-oase-steinerskirchen/
END:VEVENT
END:VCALENDAR