BEGIN:VCALENDAR
VERSION:2.0
PRODID:-//eventon.com NONSGML v1.0//EN
CALSCALE:GREGORIAN
METHOD:PUBLISH
BEGIN:VEVENT
UID:69eb483ccc483
DTSTAMP:20260424T103852Z
DTSTART:20250321T170000Z
DTEND:20250323T123000Z
LOCATION:Oase Steinerskirchen Steinerskirchen 1\,  86558 Hohenwart
SUMMARY:Quellen des Lebens
DESCRIPTION:Wir wollen gemeinsam Quellen entdecken\,  die uns stärken und 
 wachsen lassen. Es gibt gemeinsame Zeit mit der Familie und spezielle Angeb
 ote für Kinder\,  Jugendliche und Erwachsene. Leitung: Bernhard Fendt\,  G
 udrun Fendt\,  Team Kinder- und Jugendgruppenleiter:innen Kosten: 140 € p
 ro Erw. / 70 € pro Kind (13-18 J.) / 45 €[..]\nhttps://beziehung-leben.
 de/events/quellen-des-lebens/
URL:https://beziehung-leben.de/events/quellen-des-lebens/
END:VEVENT
END:VCALENDAR