BEGIN:VCALENDAR
VERSION:2.0
PRODID:-//eventon.com NONSGML v1.0//EN
CALSCALE:GREGORIAN
METHOD:PUBLISH
BEGIN:VEVENT
UID:69e8c23b9ebd6
DTSTAMP:20260422T124235Z
DTSTART:20250330T150000Z
DTEND:20250330T215900Z
LOCATION:
SUMMARY:"...über den Tod hinaus"
DESCRIPTION:Zu diesem Gottesdienst sind alle Eltern und Familien eingeladen
 \,  die den Tod eines Kindes betrauern. Mit anderen Betroffenen wollen wir 
 die oft auftretende Hilflosigkeit und Trauer vor Gott hintragen. Im Anschlu
 ss an den Gottesdienst besteht die Möglichkeit zum Zusammensein und Gedank
 enaustausch in der Oase Steinerskirchen. Leitung:        P. Norbert M
 .[..]\nhttps://beziehung-leben.de/events/ueber-den-tod-hinaus-3/
URL:https://beziehung-leben.de/events/ueber-den-tod-hinaus-3/
END:VEVENT
END:VCALENDAR