BEGIN:VCALENDAR
VERSION:2.0
PRODID:-//eventon.com NONSGML v1.0//EN
CALSCALE:GREGORIAN
METHOD:PUBLISH
BEGIN:VEVENT
UID:69e5e84c8d58c
DTSTAMP:20260420T084812Z
DTSTART:20241012T070000Z
DTEND:20241012T150000Z
LOCATION:Tagungshaus Maria Beinberg 86565 Gachenbach
SUMMARY:Zeit zum Gespräch - Zeit für uns als Paar
DESCRIPTION:Paare\,  die bereits an einem der Kurse EPL oder KEK teilgenomm
 en haben und die ihre positiven Erfahrungen auffrischen möchten\,  vertief
 en die erlernten Kommunikations- und Problemlösefertigkeiten für die Nutz
 ung im Alltag ihrer gemeinsamen Lebenswelt. Leitung: Dr. Konrad H. Blüml\,
   Gudrun Fendt Kosten: Kurskosten 50 € pro Paar\,  Mittagessen und Geträ
 nke auf[..]\nhttps://beziehung-leben.de/events/zeit-zum-gespraech-zeit-fuer
 -uns-als-paar/
URL:https://beziehung-leben.de/events/zeit-zum-gespraech-zeit-fuer-uns-als-paar/
END:VEVENT
END:VCALENDAR