BEGIN:VCALENDAR
VERSION:2.0
PRODID:-//eventon.com NONSGML v1.0//EN
CALSCALE:GREGORIAN
METHOD:PUBLISH
BEGIN:VEVENT
UID:69e88ee61030a
DTSTAMP:20260422T090334Z
DTSTART:20250124T160000Z
DTEND:20250126T120000Z
LOCATION:Allgäuhaus\,  Wertach Kolpingstraße 1\,  87497 Wertach
SUMMARY:Einfach spitze\,  dass du da bist!
DESCRIPTION:An diesem Wochenende laden wir Alleinerziehende mit kleinen Kin
 dern wieder ins wunderschöne Allgäu ein. Durch die Rundumversorgung\,  di
 e das Haus bietet\,  aber auch für Unterstützung bei Erziehungsfragen und
  für einen stärkenden Austausch in der Gemeinschaft. Eine erholsame und v
 ergnügte Auszeit wartet auf uns. Ohne Kinderbetreuung Leitung: Ursula Rade
 ck\,  Alleinerziehendenseelsorge\,  Dagmar[..]\nhttps://beziehung-leben.de/
 events/einfach-spitze-dass-du-da-bist-4/
URL:https://beziehung-leben.de/events/einfach-spitze-dass-du-da-bist-4/
END:VEVENT
END:VCALENDAR