BEGIN:VCALENDAR
VERSION:2.0
PRODID:-//eventon.com NONSGML v1.0//EN
CALSCALE:GREGORIAN
METHOD:PUBLISH
BEGIN:VEVENT
UID:69e88ea8c8dc6
DTSTAMP:20260422T090232Z
DTSTART:20250206T180000Z
DTEND:20250206T193000Z
LOCATION:Haus St. Ulrich\,  Augsburg
SUMMARY:Wie Sexualität lebendig bleiben kann
DESCRIPTION:Sexualität ist in vielen Beziehungen ein wichtiges Thema und s
 orgt doch oft für Unsicherheit und Missverständnisse. In einer offenen un
 d einfühlsamen Atmosphäre sprechen wir über verschiedene Aspekte von Sex
 ualität in festen Beziehungen. Wie können Kommunikation und Vertrauen ein
 e Grundlage für erfüllende sexuelle Erlebnisse schaffen und wie vertieft 
 emotionale Nähe die[..]\nhttps://beziehung-leben.de/events/wie-sexualitaet
 -lebendig-bleiben-kann/
URL:https://beziehung-leben.de/events/wie-sexualitaet-lebendig-bleiben-kann/
END:VEVENT
END:VCALENDAR