BEGIN:VCALENDAR
VERSION:2.0
PRODID:-//eventon.com NONSGML v1.0//EN
CALSCALE:GREGORIAN
METHOD:PUBLISH
BEGIN:VEVENT
UID:69e5e8707020d
DTSTAMP:20260420T084848Z
DTSTART:20260215T053000Z
DTEND:20260215T063000Z
LOCATION:Pfarrkirche St. Gallus Kirchplatz 1
SUMMARY:Vorabendmesse zum Valentinstag - Scheidegg
DESCRIPTION:Herzliche Einladung zur Vorabendmesse mit Paarsegnung in der Pf
 arrkirche St. Gallus\,  Kirchplatz 1\,  88175 Scheidegg Termin: Samstag\,  
 14.02.2026\,  18:30 Uhr Veranstalter: Pfarreiengemeinschaft Pfänderrücken
 \,  Lindenberg\nhttps://beziehung-leben.de/events/heilige-messe-zum-valenti
 nstag-lindenberg/
URL:https://beziehung-leben.de/events/heilige-messe-zum-valentinstag-lindenberg/
END:VEVENT
END:VCALENDAR