BEGIN:VCALENDAR
VERSION:2.0
PRODID:-//eventon.com NONSGML v1.0//EN
CALSCALE:GREGORIAN
METHOD:PUBLISH
BEGIN:VEVENT
UID:69eb2c720ad1c
DTSTAMP:20260424T084018Z
DTSTART:20250312T080000Z
DTEND:20250312T100000Z
LOCATION:
SUMMARY:Kess erziehen - von Anfang an
DESCRIPTION:Der Kurs für Väter und Mütter von Kindern im 1. bis 3. Leben
 sjahr stärkt die Eltern-Kind-Beziehung. Die Eltern werden darin unterstüt
 zt\,  die Entwicklung ihres Kindes zu fördern\,  indem sie feinfühlig agi
 eren\,  das Kind in den Alltag einbeziehen und alltägliche Erfahrungsräum
 e nutzen. Gleichzeitig fördert der Kurs die kommunikativen Fertigkeiten de
 r Eltern.[..]\nhttps://beziehung-leben.de/events/kess-erziehen-von-anfang-a
 n-2/
URL:https://beziehung-leben.de/events/kess-erziehen-von-anfang-an-2/
END:VEVENT
END:VCALENDAR