BEGIN:VCALENDAR
VERSION:2.0
PRODID:-//eventon.com NONSGML v1.0//EN
CALSCALE:GREGORIAN
METHOD:PUBLISH
BEGIN:VEVENT
UID:69e9ddb602c93
DTSTAMP:20260423T085206Z
DTSTART:20250516T150000Z
DTEND:20250518T110000Z
LOCATION:
SUMMARY:Verstehen - Stärken - Ausrichten: Resilienz für Paare Roggenburg
DESCRIPTION:&#8222;Es ist\,  wie es ist. Aber es wird\,  was ihr daraus mac
 he.&#8220; (J.E. Lawrence) Im Alltag geschehen so viele Dinge. Wie wir als 
 Paar damit umgehen und was wir daraus machen\,  liegt in unserer Verantwort
 ung. Wir wollen Sie an diesem Wochenende einladen\,  sich Zeit zu nehmen un
 d festzustellen\,  was Ihre[..]\nhttps://beziehung-leben.de/events/verstehe
 n-staerken-ausrichten-resilienz-fuer-paare/
URL:https://beziehung-leben.de/events/verstehen-staerken-ausrichten-resilienz-fuer-paare/
END:VEVENT
END:VCALENDAR