BEGIN:VCALENDAR
VERSION:2.0
PRODID:-//eventon.com NONSGML v1.0//EN
CALSCALE:GREGORIAN
METHOD:PUBLISH
BEGIN:VEVENT
UID:69e4c3ce75d3f
DTSTAMP:20260419T120014Z
DTSTART:20250318T190000Z
DTEND:20250318T210000Z
LOCATION:
SUMMARY:KESS erziehen - Weniger Stress - mehr Freude
DESCRIPTION:Eltern sein ist schön – mitunter auch anstrengend. Oft zwing
 t uns der Alltag unterschiedliche Bedürfnisse und Ansprüche gleichzeitig 
 auf. Wie gehe ich mit diesen Herausforderungen um und wie können wir uns i
 n der Familie gegenseitig unterstützen? Kess-erziehen (kooperativ &#8211; 
 ermutigend &#8211; sozial &#8211; situationsorientiert) vermittelt Eltern v
 iele praktische Anregungen für[..]\nhttps://beziehung-leben.de/events/kess
 -erziehen-weniger-stress-mehr-freude-14/
URL:https://beziehung-leben.de/events/kess-erziehen-weniger-stress-mehr-freude-14/
END:VEVENT
END:VCALENDAR