BEGIN:VCALENDAR
VERSION:2.0
PRODID:-//eventon.com NONSGML v1.0//EN
CALSCALE:GREGORIAN
METHOD:PUBLISH
BEGIN:VEVENT
UID:69e88eb9c3b07
DTSTAMP:20260422T090249Z
DTSTART:20251205T170000Z
DTEND:20251207T130000Z
LOCATION:Tagungshaus Reimlingen
SUMMARY:Ein Staunen bewahren
DESCRIPTION:Die Kids sind groß &#8211; warum also sich nicht als Paar eine
  Auszeit nehmen und eintauchen in vorweihnachtliche Stimmung? Dies wird ein
  Wochenende mit Zeit und Austausch\,  Kreativität und Spiritualität. Wir 
 nehmen Licht und Schatten wahr. Zwischen Alltag\,  Sehnsucht\,  Sorge und V
 erwundbarkeit lassen wir uns neu auf die weihnachtliche Hoffnung[..]\nhttps
 ://beziehung-leben.de/events/ein-staunen-bewahren/
URL:https://beziehung-leben.de/events/ein-staunen-bewahren/
END:VEVENT
END:VCALENDAR