BEGIN:VCALENDAR
VERSION:2.0
PRODID:-//eventon.com NONSGML v1.0//EN
CALSCALE:GREGORIAN
METHOD:PUBLISH
BEGIN:VEVENT
UID:69eb2cd1e5953
DTSTAMP:20260424T084153Z
DTSTART:20260131T080000Z
DTEND:20260131T110000Z
LOCATION:Bürgerhaus Schwalbanger 86633 Neuburg/Donau\,  Richard-Wagner-Str. 8
SUMMARY:KESS-erziehen-Elternkurs Abenteuer Pubertät - abgesagt
DESCRIPTION:KESS-erziehen – Abenteuer Pubertät ist ein praxisorientierte
 r Kurs für Eltern\,  die jugendliche Kinder im Alter von 11 bis 16 Jahren 
 haben. Das Leben mit Jugendlichen ist eine Herausforderung. Es ist nicht nu
 r Friede und Freude. Ärger\,  Auseinandersetzungen und Streit sind beim Er
 ziehen unvermeidlich\,  bisweilen sogar notwendig. Der Kurs bestärkt Elter
 n[..]\nhttps://beziehung-leben.de/events/kess-erziehen-abenteuer-pubertaet-
 4/
URL:https://beziehung-leben.de/events/kess-erziehen-abenteuer-pubertaet-4/
END:VEVENT
END:VCALENDAR