BEGIN:VCALENDAR
VERSION:2.0
PRODID:-//eventon.com NONSGML v1.0//EN
CALSCALE:GREGORIAN
METHOD:PUBLISH
BEGIN:VEVENT
UID:69e4dc4431a04
DTSTAMP:20260419T134436Z
DTSTART:20260226T183000Z
DTEND:20260226T200000Z
LOCATION:Bürgerhaus Schwalbanger 86633 Neuburg/Donau\,  Richard-Wagner-Str. 8
SUMMARY:Investment in unsere Partnerschaft
DESCRIPTION:An diesem Abend gibt es Impulse und Anregungen für eine geling
 ende Partnerschaft\,  Zeit für das Paargespräch und den Austausch mit and
 eren. Themen Teil 1 (26.02.2026): Unsere Geschichte als Paar / Was Paare ve
 rbindet und zusammenhält / Unser Beziehungskonto füllen weitere Themen un
 d Termine: Teil 2: Gut Zuhören und Sprechen –[..]\nhttps://beziehung-leb
 en.de/events/investment-in-unsere-partnerschaft/
URL:https://beziehung-leben.de/events/investment-in-unsere-partnerschaft/
END:VEVENT
END:VCALENDAR