BEGIN:VCALENDAR
VERSION:2.0
PRODID:-//eventon.com NONSGML v1.0//EN
CALSCALE:GREGORIAN
METHOD:PUBLISH
BEGIN:VEVENT
UID:69ed0e6bdf9fc
DTSTAMP:20260425T185643Z
DTSTART:20261010T073000Z
DTEND:20261010T103000Z
LOCATION:Online
SUMMARY:Zum 1. Mal Mama - Eine neue Erfahrung. Online-Veranstaltung
DESCRIPTION:Endlich ist dein Baby da und neben Glück und Freude spürst Du
 \,  dass Dich die neue Lebenssituation an körperliche und emotionale Grenz
 en bringt. Verständlich! Denn Mama-Werden ist ein Einschnitt und ein Proze
 ss. Entdecke Deinen Weg\,  damit leichter umzugehen: Körperliche und emoti
 onale Überforderung &#8211; erkennen und verstehen Die neue Lebenssituatio
 n &#8211;[..]\nhttps://beziehung-leben.de/events/zum-1-mal-mama-eine-neue-e
 rfahrung/
URL:https://beziehung-leben.de/events/zum-1-mal-mama-eine-neue-erfahrung/
END:VEVENT
END:VCALENDAR