BEGIN:VCALENDAR
VERSION:2.0
PRODID:-//eventon.com NONSGML v1.0//EN
CALSCALE:GREGORIAN
METHOD:PUBLISH
BEGIN:VEVENT
UID:69ea06481aee4
DTSTAMP:20260423T114512Z
DTSTART:20270912T050000Z
DTEND:20270919T150000Z
LOCATION:
SUMMARY:Apulien hautnah: Eine exklusive Reise für Paare
DESCRIPTION:Ca. 5-6 Tage in der Woche vom 12. bis 19. September 2027 Kommen
  Sie mit auf eine besondere Entdeckungsreise in den sonnigen Süden Italien
 s! Das Reisebüro Ehrmann aus Babenhausen lädt Sie ein\,  die magische A
 tmosphäre Apuliens zur besten Reisezeit zu erleben – wenn die Sommerhitz
 e weicht und das Licht die Olivenhaine in[..]\nhttps://beziehung-leben.de/e
 vents/apulien-hautnah-eine-exklusive-reise-fuer-paare/
URL:https://beziehung-leben.de/events/apulien-hautnah-eine-exklusive-reise-fuer-paare/
END:VEVENT
END:VCALENDAR