BEGIN:VCALENDAR
VERSION:2.0
PRODID:-//eventon.com NONSGML v1.0//EN
CALSCALE:GREGORIAN
METHOD:PUBLISH
BEGIN:VEVENT
UID:69e9deabf04a9
DTSTAMP:20260423T085611Z
DTSTART:20250215T060000Z
DTEND:20250215T063000Z
LOCATION:Kirche St. Hippolyt (St. Pölten)
SUMMARY:Segensgottesdienst zum Valentinstag - Weilheim
DESCRIPTION:Herzliche Einladung zum Valentinstag! Wir feiern am 14.2.2025 u
 m 19 Uhr eine Andacht in der Stadtpfarrkirche St. Hippolyt (St. Pölten)\, 
  Unterer Graben 46\,  82362 Weilheim &nbsp;\nhttps://beziehung-leben.de/eve
 nts/segensfeier-zum-valentinstag-weilheim/
URL:https://beziehung-leben.de/events/segensfeier-zum-valentinstag-weilheim/
END:VEVENT
END:VCALENDAR