BEGIN:VCALENDAR
VERSION:2.0
PRODID:-//eventon.com NONSGML v1.0//EN
CALSCALE:GREGORIAN
METHOD:PUBLISH
BEGIN:VEVENT
UID:69e50b1741fea
DTSTAMP:20260419T170423Z
DTSTART:20241130T040000Z
DTEND:20241202T003000Z
LOCATION:Allgäuhaus\,  Wertach Kolpingstraße 1\,  87497 Wertach
SUMMARY:Die erste Kerze brennt – Adventliches Wochenende in Wertach - ausgebucht
DESCRIPTION:Zur Ruhe kommen und zur Mitte finden. Sich sammeln um die Licht
 er an unserem Adventskranz. Ein stimmungsvolles Wochenende mit Musik und Li
 edern. Leitung: Elisabeth Wiedemann\,  Robert Haas Kosten: 182\, 80 EUR/Erw
 .\,  117\, 00 EUR/Kind (12 &#8211; 17 Jahre); 91\, 40 EUR/Kind (7 &#8211; 1
 1 Jahre); 64 €/Kind (3 &#8211; 6 Jahre) &#8211; ab[..]\nhttps://beziehung
 -leben.de/events/die-erste-kerze-brennt-adventliches-wochenende-in-wertach/
URL:https://beziehung-leben.de/events/die-erste-kerze-brennt-adventliches-wochenende-in-wertach/
END:VEVENT
END:VCALENDAR