BEGIN:VCALENDAR
VERSION:2.0
PRODID:-//eventon.com NONSGML v1.0//EN
CALSCALE:GREGORIAN
METHOD:PUBLISH
BEGIN:VEVENT
UID:69e520963660f
DTSTAMP:20260419T183606Z
DTSTART:20240413T040000Z
DTEND:20240415T000000Z
LOCATION:Allgäuhaus\,  Wertach Kolpingstraße 1\,  87497 Wertach
SUMMARY:Väterwochenende -  im Allgäuhaus bei Wertach - WARTELISTE
DESCRIPTION:Herzliche Einladung zum Väterwochenende &#8211;  für Väter 
 mit Kindern ab 3 Jahren vom 12. bis 14. April 2024 Mit Familiengottesdienst
 . Auch für einander und gemeinsame Aktivitäten werden wir viel Zeit haben
 . Leitung: Dieter Güntner\,  Pastoralreferent &amp; Ehe- und Familienseels
 orger\,  Weilheim  Unser Tagungshaus Allgäu-Haus\,  Kolpingstr. 1 – 7 8
 7459 Wertach Tel.:[..]\nhttps://beziehung-leben.de/events/vaeterwochenende-
 allgaeuhaus-bei-wertach-2024/
URL:https://beziehung-leben.de/events/vaeterwochenende-allgaeuhaus-bei-wertach-2024/
END:VEVENT
END:VCALENDAR